BEGIN:VCALENDAR
PRODID;X-RICAL-TZSOURCE=TZINFO:-//com.denhaven2/NONSGML ri_cal gem//EN
CALSCALE:GREGORIAN
VERSION:2.0
BEGIN:VEVENT
DTEND;VALUE=DATE-TIME:20260517T035900Z
DTSTART;VALUE=DATE-TIME:20260517T000000Z
DESCRIPTION:DIGITAL NOIR PROM w/ DJ SPIDER & DJ PRICE at The Milestone on
  Saturday 5/16
SUMMARY:DIGITAL NOIR PROM w/ DJ SPIDER & DJ PRICE at The Milestone on Sat
 urday 5/16/2026
LOCATION:3400 Tuckaseegee Rd\, Charlotte\, NC 28208-3050
END:VEVENT
END:VCALENDAR
