BEGIN:VCALENDAR
PRODID;X-RICAL-TZSOURCE=TZINFO:-//com.denhaven2/NONSGML ri_cal gem//EN
CALSCALE:GREGORIAN
VERSION:2.0
BEGIN:VEVENT
DTEND;VALUE=DATE-TIME:20260718T035900Z
DTSTART;VALUE=DATE-TIME:20260718T000000Z
DESCRIPTION:DIKEMBE w/ PADFOOT & MORE at The Milestone on Friday 7/17/202
 6
SUMMARY:DIKEMBE w/ PADFOOT & MORE at The Milestone on Friday 7/17/2026
LOCATION:3400 Tuckaseegee Rd\, Charlotte\, NC 28208-3050
END:VEVENT
END:VCALENDAR
