BEGIN:VCALENDAR
PRODID;X-RICAL-TZSOURCE=TZINFO:-//com.denhaven2/NONSGML ri_cal gem//EN
CALSCALE:GREGORIAN
VERSION:2.0
BEGIN:VEVENT
DTEND;VALUE=DATE-TIME:20260516T035900Z
DTSTART;VALUE=DATE-TIME:20260516T000000Z
DESCRIPTION:DIVISION POINT w/ CIRCUIT CIRCUIT\, TOWER OF PINES\, REALITY 
 & PROCESS//SLEEP
SUMMARY:DIVISION POINT w/ CIRCUIT CIRCUIT\, TOWER OF PINES\, REALITY & PR
 OCESS//SLEEP 5/15
LOCATION:3400 Tuckaseegee Rd\, Charlotte\, NC 28208-3050
END:VEVENT
END:VCALENDAR
